BEGIN:VCALENDAR
VERSION:2.0
PRODID:-//Canid&#039;élire - ECPv6.15.14//NONSGML v1.0//EN
CALSCALE:GREGORIAN
METHOD:PUBLISH
X-WR-CALNAME:Canid&#039;élire
X-ORIGINAL-URL:https://canidelire.com
X-WR-CALDESC:Évènements pour Canid&#039;élire
REFRESH-INTERVAL;VALUE=DURATION:PT1H
X-Robots-Tag:noindex
X-PUBLISHED-TTL:PT1H
BEGIN:VTIMEZONE
TZID:UTC
BEGIN:STANDARD
TZOFFSETFROM:+0000
TZOFFSETTO:+0000
TZNAME:UTC
DTSTART:20210101T000000
END:STANDARD
END:VTIMEZONE
BEGIN:VEVENT
DTSTART;TZID=UTC:20251213T140000
DTEND;TZID=UTC:20251213T170000
DTSTAMP:20260422T134342
CREATED:20251125T130335Z
LAST-MODIFIED:20251125T130822Z
UID:10684-1765634400-1765645200@canidelire.com
SUMMARY:Noël De Canid'Elire
DESCRIPTION:
URL:https://canidelire.com/evenements/noel-de-canidelire-3/
LOCATION:Canid’élire\, 45bis Boulevard Louis Pierotti\, Marseille\, 13009\, France
ATTACH;FMTTYPE=image/png:https://canidelire.com/wp-content/uploads/2022/12/124504439191579.png
ORGANIZER;CN="valerie BELTRANDO":MAILTO:vbeltrando@canidelire.com
END:VEVENT
BEGIN:VEVENT
DTSTART;TZID=UTC:20250706T100000
DTEND;TZID=UTC:20250706T110000
DTSTAMP:20260422T134342
CREATED:20250615T201719Z
LAST-MODIFIED:20250615T202015Z
UID:10626-1751796000-1751799600@canidelire.com
SUMMARY:Aqua Récrée Chiot
DESCRIPTION:
URL:https://canidelire.com/evenements/aqua-recree-copy/
LOCATION:Les goudes (13008)\, Les goudes\, Marseille\, 13008\, France
ATTACH;FMTTYPE=image/jpeg:https://canidelire.com/wp-content/uploads/2021/02/20150628_105251-Copier.jpg
ORGANIZER;CN="valerie BELTRANDO":MAILTO:vbeltrando@canidelire.com
END:VEVENT
BEGIN:VEVENT
DTSTART;TZID=UTC:20250706T090000
DTEND;TZID=UTC:20250706T100000
DTSTAMP:20260422T134342
CREATED:20250615T201710Z
LAST-MODIFIED:20250615T201929Z
UID:10625-1751792400-1751796000@canidelire.com
SUMMARY:Aqua Récrée
DESCRIPTION:
URL:https://canidelire.com/evenements/aqua-recree-2-copy-2/
LOCATION:Les goudes (13008)\, Les goudes\, Marseille\, 13008\, France
ATTACH;FMTTYPE=image/jpeg:https://canidelire.com/wp-content/uploads/2024/08/CANIDELIRE-11-scaled.jpg
ORGANIZER;CN="valerie BELTRANDO":MAILTO:vbeltrando@canidelire.com
END:VEVENT
BEGIN:VEVENT
DTSTART;TZID=UTC:20250629T100000
DTEND;TZID=UTC:20250629T110000
DTSTAMP:20260422T134342
CREATED:20250615T201641Z
LAST-MODIFIED:20250615T201757Z
UID:10623-1751191200-1751194800@canidelire.com
SUMMARY:Aqua Récrée Chiot
DESCRIPTION:
URL:https://canidelire.com/evenements/aqua-recree-chiot-copy/
LOCATION:Les goudes (13008)\, Les goudes\, Marseille\, 13008\, France
ATTACH;FMTTYPE=image/jpeg:https://canidelire.com/wp-content/uploads/2024/08/CANIDELIRE-12-scaled.jpg
ORGANIZER;CN="valerie BELTRANDO":MAILTO:vbeltrando@canidelire.com
END:VEVENT
BEGIN:VEVENT
DTSTART;TZID=UTC:20250629T090000
DTEND;TZID=UTC:20250629T100000
DTSTAMP:20260422T134342
CREATED:20250615T200831Z
LAST-MODIFIED:20250615T201519Z
UID:10620-1751187600-1751191200@canidelire.com
SUMMARY:Aqua Récrée
DESCRIPTION:
URL:https://canidelire.com/evenements/aqua-recree-2-copy/
LOCATION:Les goudes (13008)\, Les goudes\, Marseille\, 13008\, France
ATTACH;FMTTYPE=image/jpeg:https://canidelire.com/wp-content/uploads/2024/08/CANIDELIRE-11-scaled.jpg
ORGANIZER;CN="valerie BELTRANDO":MAILTO:vbeltrando@canidelire.com
END:VEVENT
BEGIN:VEVENT
DTSTART;TZID=UTC:20250622T100000
DTEND;TZID=UTC:20250622T110000
DTSTAMP:20260422T134342
CREATED:20250615T200649Z
LAST-MODIFIED:20250615T200745Z
UID:10618-1750586400-1750590000@canidelire.com
SUMMARY:Aqua Récrée Chiot
DESCRIPTION:
URL:https://canidelire.com/evenements/aqua-recree-chiot-2-copy/
LOCATION:Les goudes (13008)\, Les goudes\, Marseille\, 13008\, France
ATTACH;FMTTYPE=image/jpeg:https://canidelire.com/wp-content/uploads/2021/02/aquarécré2.jpg
ORGANIZER;CN="valerie BELTRANDO":MAILTO:vbeltrando@canidelire.com
END:VEVENT
BEGIN:VEVENT
DTSTART;TZID=UTC:20250622T090000
DTEND;TZID=UTC:20250622T100000
DTSTAMP:20260422T134342
CREATED:20250615T200326Z
LAST-MODIFIED:20250615T200557Z
UID:10616-1750582800-1750586400@canidelire.com
SUMMARY:Aqua Récrée
DESCRIPTION:
URL:https://canidelire.com/evenements/aqua-recree-4-copy/
LOCATION:Les goudes (13008)\, Les goudes\, Marseille\, 13008\, France
ATTACH;FMTTYPE=image/jpeg:https://canidelire.com/wp-content/uploads/2024/08/CANIDELIRE-6-scaled.jpg
ORGANIZER;CN="valerie BELTRANDO":MAILTO:vbeltrando@canidelire.com
END:VEVENT
BEGIN:VEVENT
DTSTART;VALUE=DATE:20241207
DTEND;VALUE=DATE:20241208
DTSTAMP:20260422T134342
CREATED:20241125T090948Z
LAST-MODIFIED:20241125T092440Z
UID:10512-1733529600-1733615999@canidelire.com
SUMMARY:Canid'Noel
DESCRIPTION:Une journée d’activité pour fêter Noel ensemble avec nos petits amis a 4 pattes. \nDes petits ateliers ludiques sur 2 heures de temps en groupes \nChapeaux de Noël au minimum sont demander pour les humains et \nInscription auprès de Valérie indispensable pour participer
URL:https://canidelire.com/evenements/canidnoel/
LOCATION:Canid’élire\, 45bis Boulevard Louis Pierotti\, Marseille\, 13009\, France
ATTACH;FMTTYPE=image/jpeg:https://canidelire.com/wp-content/uploads/2022/12/IMG_1804-1.jpg
ORGANIZER;CN="valerie BELTRANDO":MAILTO:vbeltrando@canidelire.com
END:VEVENT
BEGIN:VEVENT
DTSTART;TZID=UTC:20241027T090000
DTEND;TZID=UTC:20241027T103000
DTSTAMP:20260422T134342
CREATED:20240930T115423Z
LAST-MODIFIED:20240930T115704Z
UID:10439-1730019600-1730025000@canidelire.com
SUMMARY:HUNTING GAMES
DESCRIPTION:Une activité de flair ludique et passionnante pour tous les chiens ( petit\, grand\, chiot\, jeune ou vieux). L’objectif pour le chien est de remonter\, avec confiance et efficacité\, à la source d’une odeur. Mais il n’est pas nécessaire d’apprendre au chien a détecter une odeur spécifique pour travailler en Hunting GAMES\, et de profiter de tous les bénéfices de l’activité.
URL:https://canidelire.com/evenements/hinting-games-3/
LOCATION:Canid’élire\, 45bis Boulevard Louis Pierotti\, Marseille\, 13009\, France
ATTACH;FMTTYPE=image/jpeg:https://canidelire.com/wp-content/uploads/2024/09/P1020087-scaled.jpg
ORGANIZER;CN="valerie BELTRANDO":MAILTO:vbeltrando@canidelire.com
END:VEVENT
BEGIN:VEVENT
DTSTART;TZID=UTC:20241020T090000
DTEND;TZID=UTC:20241020T103000
DTSTAMP:20260422T134342
CREATED:20240930T115413Z
LAST-MODIFIED:20240930T115521Z
UID:10438-1729414800-1729420200@canidelire.com
SUMMARY:HUNTING GAMES
DESCRIPTION:Une activité de flair ludique et passionnante pour tous les chiens ( petit\, grand\, chiot\, jeune ou vieux). L’objectif pour le chien est de remonter\, avec confiance et efficacité\, à la source d’une odeur. Mais il n’est pas nécessaire d’apprendre au chien a détecter une odeur spécifique pour travailler en Hunting GAMES\, et de profiter de tous les bénéfices de l’activité.
URL:https://canidelire.com/evenements/hinting-games-2/
LOCATION:Canid’élire\, 45bis Boulevard Louis Pierotti\, Marseille\, 13009\, France
ATTACH;FMTTYPE=image/jpeg:https://canidelire.com/wp-content/uploads/2024/09/P1020105-scaled.jpg
ORGANIZER;CN="valerie BELTRANDO":MAILTO:vbeltrando@canidelire.com
END:VEVENT
BEGIN:VEVENT
DTSTART;TZID=UTC:20241013T090000
DTEND;TZID=UTC:20241013T103000
DTSTAMP:20260422T134342
CREATED:20240930T103954Z
LAST-MODIFIED:20240930T115353Z
UID:10429-1728810000-1728815400@canidelire.com
SUMMARY:HUNTING GAMES
DESCRIPTION:Une activité de flair ludique et passionnante pour tous les chiens ( petit\, grand\, chiot\, jeune ou vieux). L’objectif pour le chien est de remonter\, avec confiance et efficacité\, à la source d’une odeur. Mais il n’est pas nécessaire d’apprendre au chien a détecter une odeur spécifique pour travailler en Hunting GAMES\, et de profiter de tous les bénéfices de l’activité.
URL:https://canidelire.com/evenements/hinting-games/
LOCATION:Canid’élire\, 45bis Boulevard Louis Pierotti\, Marseille\, 13009\, France
ATTACH;FMTTYPE=image/jpeg:https://canidelire.com/wp-content/uploads/2024/09/IMG_3401-scaled.jpg
ORGANIZER;CN="valerie BELTRANDO":MAILTO:vbeltrando@canidelire.com
END:VEVENT
BEGIN:VEVENT
DTSTART;TZID=UTC:20241006T090000
DTEND;TZID=UTC:20241006T103000
DTSTAMP:20260422T134342
CREATED:20240930T103918Z
LAST-MODIFIED:20240930T114149Z
UID:10428-1728205200-1728210600@canidelire.com
SUMMARY:HUNTING GAMES
DESCRIPTION:NOUVEAU \nUne activité de flair ludique et passionnante pour tous les chiens ( petit\, grand\, chiot\, jeune ou vieux). L’objectif pour le chien est de remonter\, avec confiance et efficacité\, à la source d’une odeur. Mais il n’est pas nécessaire d’apprendre au chien a détecter une odeur spécifique pour travailler en Hunting GAMES\, et de profiter de tous les bénéfices de l’activité.
URL:https://canidelire.com/evenements/hunting-games/
LOCATION:Canid’élire\, 45bis Boulevard Louis Pierotti\, Marseille\, 13009\, France
ATTACH;FMTTYPE=image/jpeg:https://canidelire.com/wp-content/uploads/2021/02/20140621_090633-Copier.jpg
ORGANIZER;CN="valerie BELTRANDO":MAILTO:vbeltrando@canidelire.com
END:VEVENT
BEGIN:VEVENT
DTSTART;TZID=UTC:20240929T090000
DTEND;TZID=UTC:20240929T100000
DTSTAMP:20260422T134342
CREATED:20240802T101931Z
LAST-MODIFIED:20240802T101931Z
UID:10412-1727600400-1727604000@canidelire.com
SUMMARY:Aqua Récrée
DESCRIPTION:
URL:https://canidelire.com/evenements/aqua-recree-4/
LOCATION:Les goudes (13008)\, Les goudes\, Marseille\, 13008\, France
ATTACH;FMTTYPE=image/jpeg:https://canidelire.com/wp-content/uploads/2024/08/CANIDELIRE-6-scaled.jpg
ORGANIZER;CN="valerie BELTRANDO":MAILTO:vbeltrando@canidelire.com
END:VEVENT
BEGIN:VEVENT
DTSTART;TZID=UTC:20240922T100000
DTEND;TZID=UTC:20240922T110000
DTSTAMP:20260422T134342
CREATED:20240802T081503Z
LAST-MODIFIED:20240802T081503Z
UID:10409-1726999200-1727002800@canidelire.com
SUMMARY:Aqua Récrée Chiot
DESCRIPTION:
URL:https://canidelire.com/evenements/aqua-recree-chiot-2/
LOCATION:Les goudes (13008)\, Les goudes\, Marseille\, 13008\, France
ATTACH;FMTTYPE=image/jpeg:https://canidelire.com/wp-content/uploads/2021/02/aquarécré2.jpg
ORGANIZER;CN="valerie BELTRANDO":MAILTO:vbeltrando@canidelire.com
END:VEVENT
BEGIN:VEVENT
DTSTART;TZID=UTC:20240922T090000
DTEND;TZID=UTC:20240922T100000
DTSTAMP:20260422T134342
CREATED:20240802T081143Z
LAST-MODIFIED:20240802T081143Z
UID:10407-1726995600-1726999200@canidelire.com
SUMMARY:Aqua Récrée
DESCRIPTION:
URL:https://canidelire.com/evenements/aqua-recree-3/
LOCATION:Les goudes (13008)\, Les goudes\, Marseille\, 13008\, France
ATTACH;FMTTYPE=image/jpeg:https://canidelire.com/wp-content/uploads/2024/08/dressage-canin-1-scaled.jpg
ORGANIZER;CN="valerie BELTRANDO":MAILTO:vbeltrando@canidelire.com
END:VEVENT
BEGIN:VEVENT
DTSTART;TZID=UTC:20240915T100000
DTEND;TZID=UTC:20240915T110000
DTSTAMP:20260422T134342
CREATED:20240802T080705Z
LAST-MODIFIED:20240802T080955Z
UID:10404-1726394400-1726398000@canidelire.com
SUMMARY:Aqua Récrée Chiot
DESCRIPTION:
URL:https://canidelire.com/evenements/aqua-recree-chiot/
LOCATION:Les goudes (13008)\, Les goudes\, Marseille\, 13008\, France
ATTACH;FMTTYPE=image/jpeg:https://canidelire.com/wp-content/uploads/2024/08/CANIDELIRE-12-scaled.jpg
ORGANIZER;CN="valerie BELTRANDO":MAILTO:vbeltrando@canidelire.com
END:VEVENT
BEGIN:VEVENT
DTSTART;TZID=UTC:20240915T090000
DTEND;TZID=UTC:20240915T100000
DTSTAMP:20260422T134342
CREATED:20240802T080311Z
LAST-MODIFIED:20240802T080311Z
UID:10402-1726390800-1726394400@canidelire.com
SUMMARY:Aqua Récrée
DESCRIPTION:
URL:https://canidelire.com/evenements/aqua-recree-2/
LOCATION:Les goudes (13008)\, Les goudes\, Marseille\, 13008\, France
ATTACH;FMTTYPE=image/jpeg:https://canidelire.com/wp-content/uploads/2024/08/CANIDELIRE-11-scaled.jpg
ORGANIZER;CN="valerie BELTRANDO":MAILTO:vbeltrando@canidelire.com
END:VEVENT
BEGIN:VEVENT
DTSTART;TZID=UTC:20240908T100000
DTEND;TZID=UTC:20240908T110000
DTSTAMP:20260422T134342
CREATED:20240802T074527Z
LAST-MODIFIED:20240802T080740Z
UID:10393-1725789600-1725793200@canidelire.com
SUMMARY:Aqua Récrée Chiot
DESCRIPTION:
URL:https://canidelire.com/evenements/aqua-recree/
LOCATION:Les goudes (13008)\, Les goudes\, Marseille\, 13008\, France
ATTACH;FMTTYPE=image/jpeg:https://canidelire.com/wp-content/uploads/2021/02/20150628_105251-Copier.jpg
ORGANIZER;CN="valerie BELTRANDO":MAILTO:vbeltrando@canidelire.com
END:VEVENT
BEGIN:VEVENT
DTSTART;TZID=UTC:20240908T090000
DTEND;TZID=UTC:20240908T100000
DTSTAMP:20260422T134342
CREATED:20220622T133423Z
LAST-MODIFIED:20240802T075026Z
UID:9373-1725786000-1725789600@canidelire.com
SUMMARY:Aqua récré
DESCRIPTION:
URL:https://canidelire.com/evenements/aqua-recre-2/
LOCATION:Les goudes (13008)\, Les goudes\, Marseille\, 13008\, France
ATTACH;FMTTYPE=image/jpeg:https://canidelire.com/wp-content/uploads/2021/02/20140913_092216-Copier.jpeg
ORGANIZER;CN="valerie BELTRANDO":MAILTO:vbeltrando@canidelire.com
END:VEVENT
BEGIN:VEVENT
DTSTART;TZID=UTC:20231008T140000
DTEND;TZID=UTC:20231029T170000
DTSTAMP:20260422T134342
CREATED:20230912T102442Z
LAST-MODIFIED:20230912T104216Z
UID:10195-1696773600-1698598800@canidelire.com
SUMMARY:Sortie à l'Escale
DESCRIPTION:Canid’élire vous propose une sortie en milieu urbain\, afin de : \n– Renforcer le travail de marche en laisse \n– Apprendre les consignes pour traverser \n– Se focaliser sur l’humain malgré les distractions urbaines \n– se poser a une terrasse de café\, sans renverser la table \n– Travail sur la patience et la cohérence du binôme chien/humain. \n  \n 
URL:https://canidelire.com/evenements/aqua-recre-2juillet-copy-copy-copy-copy-copy-copy/
LOCATION:Les goudes (13008)\, Les goudes\, Marseille\, 13008\, France
ATTACH;FMTTYPE=image/jpeg:https://canidelire.com/wp-content/uploads/2023/09/R.jpg
ORGANIZER;CN="valerie BELTRANDO":MAILTO:vbeltrando@canidelire.com
END:VEVENT
BEGIN:VEVENT
DTSTART;TZID=UTC:20231007T090000
DTEND;TZID=UTC:20231028T160000
DTSTAMP:20260422T134342
CREATED:20230912T095347Z
LAST-MODIFIED:20230912T102320Z
UID:10191-1696669200-1698508800@canidelire.com
SUMMARY:Sortie à l'Escale
DESCRIPTION:Canid’élire vous propose une sortie en milieu urbain\, afin de : \n– Renforcer le travail de marche en laisse \n– Apprendre les consignes pour traverser \n– Se focaliser sur l’humain malgré les distractions urbaines \n– se poser a une terrasse de café\, sans renverser la table \n– Travail sur la patience et la cohérence du binôme chien/humain. \n  \n 
URL:https://canidelire.com/evenements/aqua-recre-2juillet-copy-copy-copy-copy-copy/
LOCATION:Les goudes (13008)\, Les goudes\, Marseille\, 13008\, France
ATTACH;FMTTYPE=image/jpeg:https://canidelire.com/wp-content/uploads/2023/08/andriyko-podilnyk-VehdYPKnX8Y-unsplash-scaled.jpg
ORGANIZER;CN="valerie BELTRANDO":MAILTO:vbeltrando@canidelire.com
END:VEVENT
BEGIN:VEVENT
DTSTART;TZID=UTC:20230910T090000
DTEND;TZID=UTC:20231001T110000
DTSTAMP:20260422T134342
CREATED:20230809T171336Z
LAST-MODIFIED:20230809T171903Z
UID:10169-1694336400-1696158000@canidelire.com
SUMMARY:Aqua récré
DESCRIPTION:Canid’élire vous propose d’accompagner votre chien afin de participer à des jeux aquatiques à la mer ! Cet activité est adapter aux chiens de 3 mois à 15 ans\, toutes races.  Nous disposons de nombreux accessoires ludiques et aquatiques : planche\, balles\, bouées…. Votre chien pourra ainsi se dépenser malgré la chaleur de l’été. Les exercices proposés\, bien que ludiques\, lui permettront de travailler son éducation / dressage entouré d’autres chiens . De plus\, pour leur sécurité tous les chiens seront équipés d’un gilet de sauvetage.
URL:https://canidelire.com/evenements/aqua-recre-2juillet-copy-copy-copy-copy/
LOCATION:Les goudes (13008)\, Les goudes\, Marseille\, 13008\, France
ATTACH;FMTTYPE=image/jpeg:https://canidelire.com/wp-content/uploads/2021/02/20150628_103453-Copier.jpg
ORGANIZER;CN="valerie BELTRANDO":MAILTO:vbeltrando@canidelire.com
END:VEVENT
BEGIN:VEVENT
DTSTART;TZID=UTC:20230730T090000
DTEND;TZID=UTC:20230820T110000
DTSTAMP:20260422T134342
CREATED:20230626T091302Z
LAST-MODIFIED:20230626T091748Z
UID:10073-1690707600-1692529200@canidelire.com
SUMMARY:Aqua récré
DESCRIPTION:Canid’élire vous propose d’accompagner votre chien afin de participer à des jeux aquatiques à la mer ! Cet activité est adapter aux chiens de 3 mois à 15 ans\, toutes races.  Nous disposons de nombreux accessoires ludiques et aquatiques : planche\, balles\, bouées…. Votre chien pourra ainsi se dépenser malgré la chaleur de l’été. Les exercices proposés\, bien que ludiques\, lui permettront de travailler son éducation / dressage entouré d’autres chiens . De plus\, pour leur sécurité tous les chiens seront équipés d’un gilet de sauvetage.
URL:https://canidelire.com/evenements/aqua-recre-2juillet-copy-copy-copy/
LOCATION:Les goudes (13008)\, Les goudes\, Marseille\, 13008\, France
ATTACH;FMTTYPE=image/jpeg:https://canidelire.com/wp-content/uploads/2021/02/P1020044-Copier-1024x450-1.jpg
ORGANIZER;CN="valerie BELTRANDO":MAILTO:vbeltrando@canidelire.com
END:VEVENT
BEGIN:VEVENT
DTSTART;TZID=UTC:20230723T090000
DTEND;TZID=UTC:20230813T110000
DTSTAMP:20260422T134342
CREATED:20230626T090934Z
LAST-MODIFIED:20230626T091829Z
UID:10070-1690102800-1691924400@canidelire.com
SUMMARY:Aqua récré
DESCRIPTION:Canid’élire vous propose d’accompagner votre chien afin de participer à des jeux aquatiques à la mer ! Cet activité est adapter aux chiens de 3 mois à 15 ans\, toutes races. Nous disposons de nombreux accessoires ludiques et aquatiques : planche\, balles\, bouées…. Votre chien pourra ainsi se dépenser malgré la chaleur de l’été. Les exercices proposés\, bien que ludiques\, lui permettront de travailler son éducation / dressage entouré d’autres chiens . De plus\, pour leur sécurité tous les chiens seront équipés d’un gilet de sauvetage.
URL:https://canidelire.com/evenements/aqua-recre-2juillet-copy-copy/
LOCATION:Les goudes (13008)\, Les goudes\, Marseille\, 13008\, France
ATTACH;FMTTYPE=image/jpeg:https://canidelire.com/wp-content/uploads/2021/02/aquarécré2.jpg
ORGANIZER;CN="valerie BELTRANDO":MAILTO:vbeltrando@canidelire.com
END:VEVENT
BEGIN:VEVENT
DTSTART;TZID=UTC:20230709T090000
DTEND;TZID=UTC:20230709T110000
DTSTAMP:20260422T134342
CREATED:20230626T083957Z
LAST-MODIFIED:20230626T091949Z
UID:10068-1688893200-1688900400@canidelire.com
SUMMARY:Aqua récré
DESCRIPTION:Canid’élire vous propose d’accompagner votre chien afin de participer à des jeux aquatiques à la mer ! Cet activité est adapter aux chiens de 3 mois à 15 ans\, toutes races. Nous disposons de nombreux accessoires ludiques et aquatiques : planche\, balles\, bouées…. Votre chien pourra ainsi se dépenser malgré la chaleur de l’été. Les exercices proposés\, bien que ludiques\, lui permettront de travailler son éducation / dressage entouré d’autres chiens . De plus\, pour leur sécurité tous les chiens seront équipés d’un gilet de sauvetage.
URL:https://canidelire.com/evenements/aqua-recre-2juillet-copy/
LOCATION:Les goudes (13008)\, Les goudes\, Marseille\, 13008\, France
ATTACH;FMTTYPE=image/jpeg:https://canidelire.com/wp-content/uploads/2021/02/20150628_103453-Copier.jpg
ORGANIZER;CN="valerie BELTRANDO":MAILTO:vbeltrando@canidelire.com
END:VEVENT
BEGIN:VEVENT
DTSTART;TZID=UTC:20230702T090000
DTEND;TZID=UTC:20230702T110000
DTSTAMP:20260422T134342
CREATED:20230625T102930Z
LAST-MODIFIED:20230626T092036Z
UID:10066-1688288400-1688295600@canidelire.com
SUMMARY:Aqua récré
DESCRIPTION:Canid’élire vous propose d’accompagner votre chien afin de participer à des jeux aquatiques à la mer ! Cet activité est adapter aux chiens de 3 mois à 15 ans\, toutes races  Nous disposons de nombreux accessoires ludiques et aquatiques : planche\, balles\, bouées…. Votre chien pourra ainsi se dépenser malgré la chaleur de l’été. Les exercices proposés\, bien que ludiques\, lui permettront de travailler son éducation / dressage entouré d’autres chiens . De plus\, pour leur sécurité tous les chiens seront équipés d’un gilet de sauvetage.
URL:https://canidelire.com/evenements/aqua-recre-2juillet/
LOCATION:Les goudes (13008)\, Les goudes\, Marseille\, 13008\, France
ATTACH;FMTTYPE=image/jpeg:https://canidelire.com/wp-content/uploads/2022/06/36752989_452256395185896_7621875188551909376_n.jpg
ORGANIZER;CN="valerie BELTRANDO":MAILTO:vbeltrando@canidelire.com
END:VEVENT
BEGIN:VEVENT
DTSTART;TZID=UTC:20230625T090000
DTEND;TZID=UTC:20230625T090000
DTSTAMP:20260422T134342
CREATED:20230614T073243Z
LAST-MODIFIED:20230614T085541Z
UID:9892-1687683600-1687683600@canidelire.com
SUMMARY:Aqua récré
DESCRIPTION:Canid’élire vous propose d’accompagner votre chien afin de participer à des jeux aquatiques à la mer !  Nous disposons de nombreux accessoires ludiques et aquatiques : planche\, balles\, bouées…. Votre chien pourra ainsi se dépenser malgré la chaleur de l’été. Les exercices proposés\, bien que ludiques\, lui permettront de travailler son éducation / dressage entouré d’autres chiens . De plus\, pour leur sécurité tous les chiens seront équipés d’un gilet de sauvetage.
URL:https://canidelire.com/evenements/aqua-recre-25juin/
LOCATION:Les goudes (13008)\, Les goudes\, Marseille\, 13008\, France
ATTACH;FMTTYPE=image/jpeg:https://canidelire.com/wp-content/uploads/2022/06/36752989_452256395185896_7621875188551909376_n.jpg
ORGANIZER;CN="valerie BELTRANDO":MAILTO:vbeltrando@canidelire.com
END:VEVENT
BEGIN:VEVENT
DTSTART;TZID=UTC:20230608T090000
DTEND;TZID=UTC:20230608T090000
DTSTAMP:20260422T134342
CREATED:20220630T111806Z
LAST-MODIFIED:20230605T160627Z
UID:9409-1686214800-1686214800@canidelire.com
SUMMARY:Aqua récré
DESCRIPTION:
URL:https://canidelire.com/evenements/aqua-recre/
LOCATION:Les goudes (13008)\, Les goudes\, Marseille\, 13008\, France
ATTACH;FMTTYPE=image/jpeg:https://canidelire.com/wp-content/uploads/2022/06/36752989_452256395185896_7621875188551909376_n.jpg
ORGANIZER;CN="valerie BELTRANDO":MAILTO:vbeltrando@canidelire.com
END:VEVENT
BEGIN:VEVENT
DTSTART;TZID=UTC:20221217T090000
DTEND;TZID=UTC:20221217T100000
DTSTAMP:20260422T134342
CREATED:20221007T135724Z
LAST-MODIFIED:20221007T140858Z
UID:9513-1671267600-1671271200@canidelire.com
SUMMARY:Noel de Canid'élire
DESCRIPTION:
URL:https://canidelire.com/evenements/noel-de-canidelire/
LOCATION:Canid’élire\, 45bis Boulevard Louis Pierotti\, Marseille\, 13009\, France
ORGANIZER;CN="valerie BELTRANDO":MAILTO:vbeltrando@canidelire.com
END:VEVENT
BEGIN:VEVENT
DTSTART;TZID=UTC:20221126T090000
DTEND;TZID=UTC:20221126T100000
DTSTAMP:20260422T134342
CREATED:20221007T134023Z
LAST-MODIFIED:20221007T140413Z
UID:9505-1669453200-1669456800@canidelire.com
SUMMARY:Sortie centre-ville
DESCRIPTION:
URL:https://canidelire.com/evenements/sortie-centre-ville/
LOCATION:Centre-ville
ORGANIZER;CN="valerie BELTRANDO":MAILTO:vbeltrando@canidelire.com
END:VEVENT
END:VCALENDAR